BEGIN:VCALENDAR
VERSION:2.0
PRODID:-//Gardens On Q - ECPv6.15.20//NONSGML v1.0//EN
CALSCALE:GREGORIAN
METHOD:PUBLISH
X-WR-CALNAME:Gardens On Q
X-ORIGINAL-URL:https://gardensonq.com
X-WR-CALDESC:Events for Gardens On Q
REFRESH-INTERVAL;VALUE=DURATION:PT1H
X-Robots-Tag:noindex
X-PUBLISHED-TTL:PT1H
BEGIN:VTIMEZONE
TZID:America/Chicago
BEGIN:DAYLIGHT
TZOFFSETFROM:-0600
TZOFFSETTO:-0500
TZNAME:CDT
DTSTART:20190310T080000
END:DAYLIGHT
BEGIN:STANDARD
TZOFFSETFROM:-0500
TZOFFSETTO:-0600
TZNAME:CST
DTSTART:20191103T070000
END:STANDARD
BEGIN:DAYLIGHT
TZOFFSETFROM:-0600
TZOFFSETTO:-0500
TZNAME:CDT
DTSTART:20200308T080000
END:DAYLIGHT
BEGIN:STANDARD
TZOFFSETFROM:-0500
TZOFFSETTO:-0600
TZNAME:CST
DTSTART:20201101T070000
END:STANDARD
BEGIN:DAYLIGHT
TZOFFSETFROM:-0600
TZOFFSETTO:-0500
TZNAME:CDT
DTSTART:20210314T080000
END:DAYLIGHT
BEGIN:STANDARD
TZOFFSETFROM:-0500
TZOFFSETTO:-0600
TZNAME:CST
DTSTART:20211107T070000
END:STANDARD
END:VTIMEZONE
BEGIN:VEVENT
DTSTART;VALUE=DATE:20200904
DTEND;VALUE=DATE:20200905
DTSTAMP:20260423T090932
CREATED:20200117T230743Z
LAST-MODIFIED:20200117T230748Z
UID:2090-1599177600-1599263999@gardensonq.com
SUMMARY:Grace & Kyle Wedding
DESCRIPTION:
URL:https://gardensonq.com/event/grace-kyle-wedding/
END:VEVENT
BEGIN:VEVENT
DTSTART;VALUE=DATE:20200904
DTEND;VALUE=DATE:20200905
DTSTAMP:20260423T090932
CREATED:20200117T230743Z
LAST-MODIFIED:20200117T230743Z
UID:3260-1599177600-1599263999@gardensonq.com
SUMMARY:Grace & Kyle Wedding
DESCRIPTION:
URL:https://gardensonq.com/event/grace-kyle-wedding-2/
END:VEVENT
BEGIN:VEVENT
DTSTART;VALUE=DATE:20200912
DTEND;VALUE=DATE:20200913
DTSTAMP:20260423T090932
CREATED:20190816T003756Z
LAST-MODIFIED:20190816T003756Z
UID:1868-1599868800-1599955199@gardensonq.com
SUMMARY:Megan & Sean Wedding
DESCRIPTION:
URL:https://gardensonq.com/event/megan-sean-wedding/
END:VEVENT
BEGIN:VEVENT
DTSTART;VALUE=DATE:20200912
DTEND;VALUE=DATE:20200913
DTSTAMP:20260423T090932
CREATED:20190816T003756Z
LAST-MODIFIED:20190816T003756Z
UID:3250-1599868800-1599955199@gardensonq.com
SUMMARY:Megan & Sean Wedding
DESCRIPTION:
URL:https://gardensonq.com/event/megan-sean-wedding-2/
END:VEVENT
BEGIN:VEVENT
DTSTART;VALUE=DATE:20200919
DTEND;VALUE=DATE:20200920
DTSTAMP:20260423T090932
CREATED:20190930T211341Z
LAST-MODIFIED:20190930T211341Z
UID:1986-1600473600-1600473600@gardensonq.com
SUMMARY:Kelsey & Alan Wedding
DESCRIPTION:
URL:https://gardensonq.com/event/kelsey-alan-wedding/
END:VEVENT
BEGIN:VEVENT
DTSTART;VALUE=DATE:20200919
DTEND;VALUE=DATE:20200920
DTSTAMP:20260423T090932
CREATED:20190930T211341Z
LAST-MODIFIED:20190930T211341Z
UID:3251-1600473600-1600473600@gardensonq.com
SUMMARY:Kelsey & Alan Wedding
DESCRIPTION:
URL:https://gardensonq.com/event/kelsey-alan-wedding-2/
END:VEVENT
BEGIN:VEVENT
DTSTART;VALUE=DATE:20200926
DTEND;VALUE=DATE:20200927
DTSTAMP:20260423T090932
CREATED:20200111T183604Z
LAST-MODIFIED:20200111T183609Z
UID:2063-1601078400-1601164799@gardensonq.com
SUMMARY:Haley & Matthew Wedding
DESCRIPTION:
URL:https://gardensonq.com/event/haley-matthew-wedding/
END:VEVENT
BEGIN:VEVENT
DTSTART;VALUE=DATE:20200926
DTEND;VALUE=DATE:20200927
DTSTAMP:20260423T090932
CREATED:20200111T183604Z
LAST-MODIFIED:20200111T183604Z
UID:3258-1601078400-1601164799@gardensonq.com
SUMMARY:Haley & Matthew Wedding
DESCRIPTION:
URL:https://gardensonq.com/event/haley-matthew-wedding-2/
END:VEVENT
END:VCALENDAR